BEGIN:VCALENDAR
VERSION:2.0
PRODID:-//netpixel.at - photos and more - ECPv6.15.18//NONSGML v1.0//EN
CALSCALE:GREGORIAN
METHOD:PUBLISH
X-WR-CALNAME:netpixel.at - photos and more
X-ORIGINAL-URL:https://netpixel.at
X-WR-CALDESC:Veranstaltungen für netpixel.at - photos and more
REFRESH-INTERVAL;VALUE=DURATION:PT1H
X-Robots-Tag:noindex
X-PUBLISHED-TTL:PT1H
BEGIN:VTIMEZONE
TZID:Europe/Vienna
BEGIN:DAYLIGHT
TZOFFSETFROM:+0100
TZOFFSETTO:+0200
TZNAME:CEST
DTSTART:20230326T010000
END:DAYLIGHT
BEGIN:STANDARD
TZOFFSETFROM:+0200
TZOFFSETTO:+0100
TZNAME:CET
DTSTART:20231029T010000
END:STANDARD
BEGIN:DAYLIGHT
TZOFFSETFROM:+0100
TZOFFSETTO:+0200
TZNAME:CEST
DTSTART:20240331T010000
END:DAYLIGHT
BEGIN:STANDARD
TZOFFSETFROM:+0200
TZOFFSETTO:+0100
TZNAME:CET
DTSTART:20241027T010000
END:STANDARD
BEGIN:DAYLIGHT
TZOFFSETFROM:+0100
TZOFFSETTO:+0200
TZNAME:CEST
DTSTART:20250330T010000
END:DAYLIGHT
BEGIN:STANDARD
TZOFFSETFROM:+0200
TZOFFSETTO:+0100
TZNAME:CET
DTSTART:20251026T010000
END:STANDARD
END:VTIMEZONE
BEGIN:VEVENT
DTSTART;TZID=Europe/Vienna:20240831T100000
DTEND;TZID=Europe/Vienna:20240831T170000
DTSTAMP:20260425T205624
CREATED:20240610T063330Z
LAST-MODIFIED:20240807T170720Z
UID:20488-1725098400-1725123600@netpixel.at
SUMMARY:Sinnliche Fotografie on Location in Gosau
DESCRIPTION:Sinnliche Fotografie on Location\nMein beliebtester Workshop\, diesmal an einer anderen tollen Location. Tauche ein in die Welt der sinnlichen Fotografie und erlebe einen einzigartigen Workshop in der atemberaubenden Kulisse des Freilichtmuseums Gosau. Unser Workshop bietet dir die Möglichkeit\, in einer authentischen\, historischen Umgebung deine fotografischen Fähigkeiten zu verfeinern und atemberaubende Bilder zu kreieren. \nBei diesem Workshop lernst du sinnliche Erotikshootings on Location zu planen und durchzuführen. Fotografiert wird in einem verträumten Heimathaus in Gosau\, das eine Vielzahl an wunderschönen In- und Outdoor Locations bietet. Ich zeige dir\, wie du ein Model mit einfachsten Mitteln gekonnt in Szene setzen kannst. Er erklärt dir\, worauf du bei der Einstellung deiner Kamera achten musst und wie du unterschiedliche Lichtquellen gezielt für die Peoplefotografie einsetzen kannst (z.B. Available Light\, Dauerlicht\, Aufsteckblitze). Anschließend kannst du deine eigenen Bildideen im praktischen Teil unseres Fotokurses gemeinsam mit einem Model umsetzen. \n \n\nNatürlich dürft Ihr sämtliche Bilder die im Rahmen des Workshops fotografiert werden für Euer Portfolio nutzen.\n\n\n\n\n\n\nVoraussetzungen:\nSpaß an der Fotografie\, eine digitale Spiegelreflex- bzw. Systemkamera. Damit wir uns genau auf Eure Bedürfnisse beraten können\, ist es von Vorteil Euer gesamtes Fotoequipment mitzunehmen!\nEmpfohlen: Objektive mit hoher Lichtstärke. Von der Kursleitung werden Ausrüstung und Hilfsmittel wie Blitzgeräte\, Reflektoren\, Stative etc. zur Verfügung gestellt. \n  \n\n  \nAnforderungen: \nDieser Workshop ist für alle Fotografen geeignet\, unabhängig davon\, ob Du professioneller Fotograf oder Hobbyfotograf bist. Am Ende des Workshops kehrst Du garantiert mit einem erweiterten Portfolio und neuen Fähigkeiten nach Hause zurück\, die Dir helfen\, Dich als professioneller und kreativer Fotograf in der Branche zu etablieren. \n\n\nUnsere Location:\nDas Freilichtmuseum Gosau ist ein wahres Juwel inmitten der beeindruckenden Landschaft des Gosautals\, das zur UNESCO-Weltkulturerbelandschaft Hallstatt-Dachstein/Salzkammergut gehört. Hier erwartet dich ein faszinierender Einblick in das bäuerliche Leben und die Kultur vergangener Jahrhunderte. \nDas Museum besteht aus einem Ensemble historischer Gebäude\, die liebevoll restauriert wurden\, um dir die traditionelle Lebensweise der Region näherzubringen. Dazu gehören ein Wohnhaus aus dem 16. Jahrhundert\, eine große Stallscheune und verschiedene Nebengebäude. Die malerische Kulisse des Museums bietet unzählige Möglichkeiten für eindrucksvolle und authentische Fotografien. \nNeben den historischen Bauten findest du hier auch den Kulturstadl\, der für Veranstaltungen genutzt wird. Im Erdgeschoss des Stadls wird demnächst eine Ausstellung über Geologie\, Almwesen und die Arbeit der Holzknechte eröffnet. Das gesamte Gelände des Museums lädt dazu ein\, bei einem Spaziergang die Ruhe und Schönheit der Umgebung zu genießen. Der nahegelegene Gosausee\, den du in nur fünf Autominuten erreichst\, bietet eine zusätzliche traumhafte Kulisse für deine Fotoprojekte. \nEs gibt eine Vielzahl an Spots In- und Outdoor an denen wir Sets aufbauen können. \n\n\n\n\n\n\n\n\n\n 
URL:https://netpixel.at/event/sinnlich_gosau/
LOCATION:Freilichtmuseum – Gosau\, Gosauseestraße 136\, Gosau\, Oberösterreich\, 4825\, Österreich
CATEGORIES:Workshops
ATTACH;FMTTYPE=image/jpeg:https://netpixel.at/wp-content/uploads/2024/06/Sinnlich-290-Wiederhergestellt-scaled.jpg
ORGANIZER;CN="netpixel.at":MAILTO:tickets@netpixel.at
END:VEVENT
END:VCALENDAR