BEGIN:VCALENDAR
VERSION:2.0
PRODID:-//netpixel.at - photos and more - ECPv6.15.18//NONSGML v1.0//EN
CALSCALE:GREGORIAN
METHOD:PUBLISH
X-WR-CALNAME:netpixel.at - photos and more
X-ORIGINAL-URL:https://netpixel.at
X-WR-CALDESC:Veranstaltungen für netpixel.at - photos and more
REFRESH-INTERVAL;VALUE=DURATION:PT1H
X-Robots-Tag:noindex
X-PUBLISHED-TTL:PT1H
BEGIN:VTIMEZONE
TZID:Europe/Vienna
BEGIN:DAYLIGHT
TZOFFSETFROM:+0100
TZOFFSETTO:+0200
TZNAME:CEST
DTSTART:20250330T010000
END:DAYLIGHT
BEGIN:STANDARD
TZOFFSETFROM:+0200
TZOFFSETTO:+0100
TZNAME:CET
DTSTART:20251026T010000
END:STANDARD
BEGIN:DAYLIGHT
TZOFFSETFROM:+0100
TZOFFSETTO:+0200
TZNAME:CEST
DTSTART:20260329T010000
END:DAYLIGHT
BEGIN:STANDARD
TZOFFSETFROM:+0200
TZOFFSETTO:+0100
TZNAME:CET
DTSTART:20261025T010000
END:STANDARD
BEGIN:DAYLIGHT
TZOFFSETFROM:+0100
TZOFFSETTO:+0200
TZNAME:CEST
DTSTART:20270328T010000
END:DAYLIGHT
BEGIN:STANDARD
TZOFFSETFROM:+0200
TZOFFSETTO:+0100
TZNAME:CET
DTSTART:20271031T010000
END:STANDARD
END:VTIMEZONE
BEGIN:VEVENT
DTSTART;TZID=Europe/Vienna:20260509T100000
DTEND;TZID=Europe/Vienna:20260509T170000
DTSTAMP:20260426T025350
CREATED:20230427T053954Z
LAST-MODIFIED:20260407T042918Z
UID:18703-1778320800-1778346000@netpixel.at
SUMMARY:Outdoor Blitzen
DESCRIPTION:Outdoor Blitzen\nBlitze sind schon lange nicht mehr nur der Studiofotografie vorbehalten. Mittlerweile sind diese in jeder denkbaren Stärke auch mobil und im Akkubetrieb verfügbar. In diesem Fotokurs zur Portraitfotografie lernst du\, wie du draußen tolle Portraits mithilfe von Blitztechnik aufnehmen kannst. Ich stelle dir die unterschiedlichen Blitzarten vor und demonstriert den gezielten Umgang mit Studioblitzen\, Aufsteckblitzen und Lichtformern. Darüber hinaus erkläre ich dir\, wie du mit Blitzlicht unterschiedliche Lichtsituationen nachstellen und ganz besondere Looks kreieren kannst\, die ohne den Einsatz von Blitzen nur schwer zu erreichen sind. Nach dem Theorieteil setzen wir das Gelernte direkt um! Inmitten der Marktgemeinde Andorf suchen wir uns verschiedene spannende Locations und arbeiten dort mit einem Model\, um das Wissen in die Praxis zu bringen. Du erhältst individuelle Tipps zur Lichtsetzung\, Bildgestaltung und Kameratechnik – damit du am Ende nicht nur beeindruckende Portraits mit nach Hause nimmst\, sondern auch neue kreative Ansätze für deine Fotografie. \n\n\nNatürlich dürft Ihr sämtliche Bilder die im Rahmen des Workshops fotografiert werden für Euer Portfolio nutzen.\n\n\n\n\n\n\nVoraussetzungen:\nSpaß an der Fotografie\, eine digitale Spiegelreflex- bzw. Systemkamera. Damit wir uns genau auf Eure Bedürfnisse beraten können\, ist es von Vorteil Euer gesamtes Fotoequipment mitzunehmen!\nEmpfohlen: Objektive mit hoher Lichtstärke. Von der Kursleitung werden Ausrüstung und Hilfsmittel wie Blitzgeräte\, Reflektoren\, Stative etc. zur Verfügung gestellt. \n  \n\n  \nAnforderungen: \nDieser Workshop ist für alle Fotografen geeignet\, unabhängig davon\, ob Du professioneller Fotograf oder Hobbyfotograf bist. Am Ende des Workshops kehrst Du garantiert mit einem erweiterten Portfolio und neuen Fähigkeiten nach Hause zurück\, die Dir helfen\, Dich als professioneller und kreativer Fotograf in der Branche zu etablieren. \n\n\nUnsere Location:\nDer an der Pramtal-Museumsstraße gelegene Denkmalhof „Brunnbauer“ ist ein typischer Innviertler Vierseithof mit einem Wohnhaus in Holzblockbauweise\, zwei Stallgebäuden und einer dem Wohnhaus gegenüberliegenden großen Scheune\, die eine imposante Holzständerkonstruktion darstellt. Der Hof fand seine erste urkundliche Erwähnung im Jahr 1532. \nDie Originaleinrichtung aus der Jahrhundertwende ist großteils erhalten und vermittelt einen Eindruck über das Alltagsleben der Menschen der damaligen Zeit. \nEs gibt eine Vielzahl an Spots In- und Outdoor an denen wir Sets aufbauen können. \n\n\n\n\n\n\n\n\n\n 
URL:https://netpixel.at/event/early-bird-outdoor-blitzen/
LOCATION:Studio 1 Fotoclub Andorf\, Winertshamer W. 1\, Andorf\, Oberösterreich\, 4770\, Österreich
CATEGORIES:Workshops
ATTACH;FMTTYPE=image/jpeg:https://netpixel.at/wp-content/uploads/2023/04/Outdoor-7.jpg
ORGANIZER;CN="netpixel.at":MAILTO:tickets@netpixel.at
END:VEVENT
END:VCALENDAR